BEGIN:VCALENDAR
VERSION:2.0
PRODID:-//My Community Diary//iCal Event//EN
CALSCALE:GREGORIAN
METHOD:PUBLISH
BEGIN:VEVENT
UID:fc3d3bd4-82e8-46f5-a7e1-cabd5524d9f0
DTSTAMP:20260422T073446Z
DTSTART;VALUE=DATE:20261121
DTEND;VALUE=DATE:20261122
SUMMARY:Fleetwood Macs
DESCRIPTION:Dreams really do come true\, as they celebrate the incredible discography of Fleetwood Mac.\n\nFrom their formation in 1967\, constant lineup changes\, crippling addictions\, and tumultuous romances – threatening to derail the group's success. Fleetwood Mac spun inner discord into gold\, creating enduring music that would resonate with multiple generations of rock fans\, continuing to capture the zeitgeist.\nThey bring all the hits - from their early British days to their US move\, and various line-up changes – in this live 2-hour concert.\nFleetwood Macs recreate the timeless music in one extravaganza you do not want to miss!\nYou could Go Your Own Way\, or you could join them for a night of Rumours and Dreams.\n\nEntry Cost\nAll tickets $55  - Early Bird $59.00\nEarly Bird Member $55.00\nFull Price $69.00\nConcession $64.00\nChild U18yrs $49.00\nGroup 6+ $59.00 each\nMembers $62.00
LOCATION:\, 525 Swift St\, Albury\, NSW 2640\, NSW\, 2640
END:VEVENT
END:VCALENDAR
