BEGIN:VCALENDAR
VERSION:2.0
PRODID:-//My Community Diary//iCal Event//EN
CALSCALE:GREGORIAN
METHOD:PUBLISH
BEGIN:VEVENT
UID:9ed5855e-50c7-4d23-b2e8-041c7b97f34c
DTSTAMP:20260421T205343Z
DTSTART;VALUE=DATE:20260531
DTEND;VALUE=DATE:20260601
SUMMARY:Fire Scars
DESCRIPTION:Renae Saxby is a documentary and music photographer based on Wonnarua Country. Her work delves into the human experience\, spanning intimate portraiture\, live performance\, and remote landscapes with a strong emphasis on cultural and environmental preservation.\n\nIn this exhibition\, Saxby examines fire as both a destructive and regenerative force. Created during a period of personal upheaval\, this work merges intimate narrative with landscape. Through immersive photography and sound\, the exhibition reflects on grief\, resilience\, and the potential for healing held within fire's transformative presence.
LOCATION:\, 230 High Street\, Maitland\, NSW 2320\, NSW\, 2320
RRULE:FREQ=DAILY;INTERVAL=1;UNTIL=20260602T000000Z
END:VEVENT
END:VCALENDAR
