BEGIN:VCALENDAR
VERSION:2.0
PRODID:-//My Community Diary//iCal Event//EN
CALSCALE:GREGORIAN
METHOD:PUBLISH
BEGIN:VEVENT
UID:bf66d0cc-20f6-49b9-91d8-f48e2695e2e1
DTSTAMP:20260422T015612Z
DTSTART;VALUE=DATE:20261007
DTEND;VALUE=DATE:20261008
SUMMARY:Fifty Years of NAIDOC Posters
DESCRIPTION:This year NAIDOC will be celebrating its 50-year anniversary. With its matching theme of 50 Years Deadly\, it is sure to be a fantastic celebration. This exhibition will look back on that 50 years\, giving space for the Albury community to reflect on how NAIDOC has changed since it began in the 1970s\, and providing an insight into how the political climate of certain years influenced the NAIDOC celebrations and theme. So come along and enjoy looking back on 50 years of NAIDOC history.
LOCATION:\, Kiewa St & Swift St 540\, Albury\, NSW 2640\, NSW\, 2640
RRULE:FREQ=DAILY;INTERVAL=1;UNTIL=20261009T000000Z
END:VEVENT
END:VCALENDAR
