BEGIN:VCALENDAR
VERSION:2.0
PRODID:-//My Community Diary//iCal Event//EN
CALSCALE:GREGORIAN
METHOD:PUBLISH
BEGIN:VEVENT
UID:a93cc76c-6d50-4715-bebc-ad7fce855c4c
DTSTAMP:20260422T022632Z
DTSTART;VALUE=DATE:20261011
DTEND;VALUE=DATE:20261012
SUMMARY:Festival of Sweets and Treats
DESCRIPTION:Explore your taste buds with another Festival of Sweets and Treats at The Station in Newcastle. There will be decadent and indulgent treats from mouth-watering cakes\, chocolates\, pastries\, lollies\, and more!\n\nImprove your skills by attending the demonstrations and masterclasses that cover a range of beneficial topics to help you in the kitchen.\n\nChocolates and lollies\, cakes\, slices and cookies\, live music\, demos and masterclasses\, food trucks\, market stalls\, dietary-friendly treats including gluten and sugar-free\, kids zone\, and entertainment and much more to be announced!\n\nBring your friends and family along to taste\, smell\, and see all of these delicious sweets and treats\, and maybe take some home to enjoy later.\n\nEntry Cost\nAdult $5  - Under 18 Entry is Free
LOCATION:\, Newcastle\, NSW 2300\, NSW\, 2300
END:VEVENT
END:VCALENDAR
