BEGIN:VCALENDAR
VERSION:2.0
PRODID:-//My Community Diary//iCal Event//EN
CALSCALE:GREGORIAN
METHOD:PUBLISH
BEGIN:VEVENT
UID:d11e5c40-aa12-49d9-aa5e-4ae03d50ea71
DTSTAMP:20260422T002814Z
DTSTART;VALUE=DATE:20260426
DTEND;VALUE=DATE:20260427
SUMMARY:Festival of Small Halls Autumn Tour: Nundle
DESCRIPTION:Woodfordia's Festival of Small Halls has announced that Canadian folk/blues artist Joe H Henry and Australian guitar slinger Tullara will feature on their next tour which takes in 13 regional towns before finishing at The Planting in Woodfordia.\n\nNow regarded as the benchmark for rural and regional touring\, and presented by veteran festival producers Woodfordia Inc\, the 49th edition of the not-for-profit music tour is meandering from Bullarto through to Deepwater.
LOCATION:\, 101 Jenkins St\, Nundle\, NSW 2340\, NSW\, 2340
END:VEVENT
END:VCALENDAR
