BEGIN:VCALENDAR
VERSION:2.0
PRODID:-//My Community Diary//iCal Event//EN
CALSCALE:GREGORIAN
METHOD:PUBLISH
BEGIN:VEVENT
UID:f647f772-d2e8-43ad-a305-992d1feb96fe
DTSTAMP:20260422T035610Z
DTSTART;VALUE=DATE:20260424
DTEND;VALUE=DATE:20260425
SUMMARY:Festival of Small Halls Autumn Tour: Bulga
DESCRIPTION:Woodfordia's Festival of Small Halls has announced that Canadian folk/blues artist Joe H Henry and Australian guitar slinger Tullara will feature on their next tour\, which takes in 13 regional towns before finishing at The Planting in Woodfordia.\n\nNow regarded as the benchmark for rural and regional touring\, and presented by veteran festival producers Woodfordia Inc\, the 49th edition of the not-for-profit music tour is meandering from Bullarto through to Deepwater.
LOCATION:\, 6 The Inlet Rd\, Bulga\, NSW 2330\, NSW\, 2330
END:VEVENT
END:VCALENDAR
