BEGIN:VCALENDAR
VERSION:2.0
PRODID:-//My Community Diary//iCal Event//EN
CALSCALE:GREGORIAN
METHOD:PUBLISH
BEGIN:VEVENT
UID:72e8ac3e-f16d-4bd4-b8f6-d70868c08977
DTSTAMP:20260422T022004Z
DTSTART;VALUE=DATE:20260611
DTEND;VALUE=DATE:20260612
SUMMARY:Faulty Towers - The Dining Experience - Orange
DESCRIPTION:Faulty Towers - The Original Dining Experience\n\nBecome part of the action as Basil\, Sybil and Manuel serve up mayhem on a plate alongside a 3-course meal and two hours of non-stop laughter. Expect nothing short of guaranteed fun and a brilliant night out as you climb inside the BBC's iconic TV show and experience it from the inside out… \n\nWith over 70% improvised\, this is the completely immersive and highly interactive comedy \nspectacular where anything can happen… and usually does?\n\nEntry Cost\nAll tickets $80 
LOCATION:\, 231 Anson Street\, Orange\, NSW 2800\, NSW\, 2800
END:VEVENT
END:VCALENDAR
