BEGIN:VCALENDAR
VERSION:2.0
PRODID:-//My Community Diary//iCal Event//EN
CALSCALE:GREGORIAN
METHOD:PUBLISH
BEGIN:VEVENT
UID:c2deb750-95c9-494e-9acc-7258c4996455
DTSTAMP:20260422T054506Z
DTSTART;VALUE=DATE:20260906
DTEND;VALUE=DATE:20260907
SUMMARY:Father's Day Luncheon Cruise
DESCRIPTION:Make this Father's Day one to remember with a relaxing lunch cruise aboard Nova Cruises. Set sail on Newcastle Harbour and treat Dad to a scenic afternoon on the water\, complete with a free drink on arrival just for Dad!\n\nIndulge in a delicious buffet-style lunch featuring cold meats\, fresh prawns\, roast chicken\, a selection of gourmet salads\, and a tempting dessert to finish. Sit back\, soak up the views\, and enjoy quality time with family in a laid-back and welcoming atmosphere.\n\nWhether you're cruising past the working port of Newcastle and the picturesque City Foreshore\, it's the perfect way to celebrate Dad's special day.\n\nEntry Cost\nAdult $90 \nChild $0  - Children (3-14 years)\nInfants (0-2 years)\nConcession $85 
LOCATION:\, 5 Honeysuckle Drive\, Newcastle\, NSW 2300\, NSW\, 2300
END:VEVENT
END:VCALENDAR
