BEGIN:VCALENDAR
VERSION:2.0
PRODID:-//My Community Diary//iCal Event//EN
CALSCALE:GREGORIAN
METHOD:PUBLISH
BEGIN:VEVENT
UID:0aebf7a5-e17b-44fd-b20c-f51fc3c4aa5c
DTSTAMP:20260422T004933Z
DTSTART;VALUE=DATE:20260906
DTEND;VALUE=DATE:20260907
SUMMARY:Father's Day Lunch on the Lake Cruise
DESCRIPTION:Make this Father's Day one to remember with a relaxing lunch cruise aboard Nova Cruises. Set sail on Lake Macquarie and treat Dad to a scenic afternoon on the water\, complete with a free drink on arrival just for Dad!\n\nIndulge in a delicious buffet-style lunch featuring cold meats\, fresh prawns\, roast chicken\, a selection of gourmet salads\, and a tempting dessert to finish. Sit back\, soak up the views\, and enjoy quality time with family in a laid-back and welcoming atmosphere.\n\nIt's the perfect way to celebrate Dad's special day.\n\nEntry Cost\nAdult $90 \nConcession $85 \nChild $0  - Infants (0-2 years) free\nChildres (3-14 years)
LOCATION:\, First Street\, Booragul\, NSW 2284\, NSW\, 2284
END:VEVENT
END:VCALENDAR
