BEGIN:VCALENDAR
VERSION:2.0
PRODID:-//My Community Diary//iCal Event//EN
CALSCALE:GREGORIAN
METHOD:PUBLISH
BEGIN:VEVENT
UID:9264ec43-ffdc-4372-91f6-b62af5757107
DTSTAMP:20260423T140558Z
DTSTART;VALUE=DATE:20260503
DTEND;VALUE=DATE:20260504
SUMMARY:Fat Albert at Shaws Bay Hotel
DESCRIPTION:Fat Albert will take to the stage at the Shaws Bay Hotel\, delivering an afternoon of great live music in the relaxed beer garden setting. this Sunday Session invites locals and visitors alike to unwind and enjoy quality entertainment by the water.\n\nWith a reputation for lively performances and crowd-pleasing tunes\, Fat Albert brings an easygoing energy that pairs perfectly with a laid-back coastal afternoon. Whether settling in with friends or enjoying a casual Sunday outing\, this free live music event offers a welcoming atmosphere and a great excuse to soak up the Ballina vibe.
LOCATION:\, 3 Brighton Street\, East Ballina\, NSW 2478\, NSW\, 2478
END:VEVENT
END:VCALENDAR
