BEGIN:VCALENDAR
VERSION:2.0
PRODID:-//My Community Diary//iCal Event//EN
CALSCALE:GREGORIAN
METHOD:PUBLISH
BEGIN:VEVENT
UID:10827bf7-e77d-4baa-ad68-a64f96d28095
DTSTAMP:20260421T211408Z
DTSTART;VALUE=DATE:20260517
DTEND;VALUE=DATE:20260518
SUMMARY:Fashion Thrift Society Sydney
DESCRIPTION:Fashion Thrift Society (FTS) is more than just a marketplace\, it's a revolution. Spanning two countries and 21 cities in 2024\, they're redefining fashion with community\, culture\, and creativity at their core. These events bring together a vibrant mix of independent sellers offering handpicked vintage and pre-loved treasures\, alongside renowned local brands showcasing their unique styles.\n\nThey'll spotlight local brands and artisans\, offering everything from handmade clothing to one-of-a-kind items that celebrate craftsmanship and creativity. This iconic installation bar features photo booths\, various hairdressing services\, tarot and aura readings\, a jewellery-making station\, tooth gems\, piercings\, permanent jewellery\, tattoos\, henna\, and more\, all while vibing to all-day DJ sets from the hottest up-and-coming artists. Need a break? Check out global eats at their delicious food trucks. For details on what's available at this event\, head to their social media accounts.\n\nIt's not just shopping\, it's a festival of style\, music\, and community where like-minded fashion lovers come together in an inclusive\, electric atmosphere. Guests of all ages are welcome.\n\nEntry Cost\nAdult $0 
LOCATION:\, Sydney Olympic Park\, NSW 2127\, NSW\, 2127
RRULE:FREQ=DAILY;INTERVAL=1;UNTIL=20260519T000000Z
END:VEVENT
END:VCALENDAR
