BEGIN:VCALENDAR
VERSION:2.0
PRODID:-//My Community Diary//iCal Event//EN
CALSCALE:GREGORIAN
METHOD:PUBLISH
BEGIN:VEVENT
UID:0cc60d2c-6b22-4aa3-984b-10898dcd9632
DTSTAMP:20260422T123123Z
DTSTART;VALUE=DATE:20260814
DTEND;VALUE=DATE:20260815
SUMMARY:Far South Film Festival
DESCRIPTION:The Far South Film Festival (FSFF) is held annually in August and showcases stories told by regional filmmakers from all over Australia. \n\nThe festival is produced by Far South Film Inc\, a not-for-profit incorporated association of professional and emerging filmmakers and digital creatives living in South East regional NSW.\n\nThey invite their fellow filmmakers from regional and remote areas of Australia to submit short films under 40 minutes in length  or features under 90 minutes in length.\n\nThis year\, film screenings\, Q&A sessions and awards will be held in-person in Merimbula NSW .\n\nCome and join them in Merimbula to watch the unique\, the beautiful\, the scary and the moving stories from filmmakers living outside the metropolitan areas of the island continent.\n\nThe major prize for Best Film is AUD1000 with prizes in other categories.
LOCATION:\, 16 Market St\, Merimbula\, NSW 2548\, NSW\, 2548
RRULE:FREQ=DAILY;INTERVAL=1;UNTIL=20260816T000000Z
END:VEVENT
END:VCALENDAR
