BEGIN:VCALENDAR
VERSION:2.0
PRODID:-//My Community Diary//iCal Event//EN
CALSCALE:GREGORIAN
METHOD:PUBLISH
BEGIN:VEVENT
UID:b0fc8905-e8bc-4e94-9ff7-01757c8a1f57
DTSTAMP:20260421T222640Z
DTSTART;VALUE=DATE:20260913
DTEND;VALUE=DATE:20260914
SUMMARY:Expressive Art September Retreat
DESCRIPTION:Imagine stepping away from the everyday hustle and arriving in a serene\, natural setting where your soul can rest\, your heart can open\, and your creativity can truly soar. \n\nExpressive Art Retreats are more than just a weekend away — Whether you're a complete beginner or a lifelong artist\, you'll be gently guided to paint\, play\, and express yourself freely — no pressure\, no rules\, just pure creative flow. Surrounded by nature's beauty\, you'll slow down\, breathe deeply\, and rediscover the harmony between Self and Nature.\n\nRetreats include nourishing meals\, cosy accommodation\, all Art materials\, and heartfelt facilitation by experienced Artists and Art Therapists. Each detail is thoughtfully curated to create a space for rest\, inspiration\, connection\, and joy.\n\nJoin an unforgettable experience where Art and nature intertwine — a sanctuary to recharge\, reconnect\, and remember your creative essence. Book your spot today and invest in yourself — because you deserve this time.  The experience is designed to help you reconnect with yourself\, explore your creativity\, and find joy in the simple act of creating.\n\nThis retreat is painting black and white birds.  They are a little more challenging than the coloured varieties. You'll come home with a large 50x60cm canvas ready to hang.\n\nThe retreat starts on Friday afternoon and finishes Sunday afternoon. Accommodation is optional.\n\nEntry Cost\nAll tickets $200  - Secure your spot with a $200 deposit. \nAccommodation (optional) determines your ticket price.
LOCATION:\, Stockyard Mountain Rd\, Yellow Rock Ridge\, NSW 2527\, NSW\, 2527
RRULE:FREQ=DAILY;INTERVAL=1;UNTIL=20260915T000000Z
END:VEVENT
END:VCALENDAR
