BEGIN:VCALENDAR
VERSION:2.0
PRODID:-//My Community Diary//iCal Event//EN
CALSCALE:GREGORIAN
METHOD:PUBLISH
BEGIN:VEVENT
UID:02c3542d-69fb-44d1-92a9-ddec639ad96f
DTSTAMP:20260422T021843Z
DTSTART;VALUE=DATE:20261107
DTEND;VALUE=DATE:20261108
SUMMARY:Explore Shoalhaven Adventure Race
DESCRIPTION:Take on the challenge and discover Shoalhaven like never before!\n\nRun\, kayak\, mountain bike and navigate your way over an unmarked 15-kilometre or 30-kilometre off-road course with up to six hours to collect all the checkpoints and reach the finish line.\n\nThis team-based event is possibly the funnest day out on the trails you can have. In pairs\, you'll work together using a map and compass to navigate a 15-kilometre or 30-kilometre linear course\, collecting checkpoints along the way and getting to the finish before the six-hour cut-off.
LOCATION:\, Mollymook\, NSW 2539\, NSW\, 2539
END:VEVENT
END:VCALENDAR
