BEGIN:VCALENDAR
VERSION:2.0
PRODID:-//My Community Diary//iCal Event//EN
CALSCALE:GREGORIAN
METHOD:PUBLISH
BEGIN:VEVENT
UID:3b62247c-6e53-4d74-bfb8-0243bd655746
DTSTAMP:20260422T032311Z
DTSTART;VALUE=DATE:20260502
DTEND;VALUE=DATE:20260503
SUMMARY:Exhibition Tours // Acts of Inheritance and Pattern Recognition
DESCRIPTION:Join Bathurst Regional Art Gallery for a free tour of their current exhibitions every Saturday at 11am!\n\nWe Are Studios: Acts of Inheritance (Main Gallery)\nActs of Inheritance presents new work from seventeen Disabled artists who explore identity as something lived\, layered and continually remade. We come to know ourselves through small\, everyday acts and performances - our own and those of others\, families\, cultures and communities as they leave their mark upon us.\n\nWe Are Studios is a 100% Disability-led\, artist-run initiative empowering Disabled Western Sydney artists to thrive.\n\nThe project is supported by the New South Wales Government through Create NSW and by the Australian Government through Creative Australia\, its principal arts investment and advisory body.\n\nLiz Bryan: Pattern Recognition (Foyer Exhibition)\nLiz Bryan is a visual artist and designer working across drawing\, painting\, textiles\, sculpture and digital media. Her practice is shaped by an ongoing interest in esoteric knowledge\, mythologies and ritual\, and engages with themes of womanhood\, place\, and the hidden or overlooked histories of feminine experience. Moving fluidly between art and craft\, Liz's work also reflects on the intersections of science\, mysticism and material knowledge.
LOCATION:\, 70 Keppel Street\, Bathurst\, NSW 2795\, NSW\, 2795
RRULE:FREQ=DAILY;INTERVAL=1;UNTIL=20260504T000000Z
END:VEVENT
END:VCALENDAR
