BEGIN:VCALENDAR
VERSION:2.0
PRODID:-//My Community Diary//iCal Event//EN
CALSCALE:GREGORIAN
METHOD:PUBLISH
BEGIN:VEVENT
UID:88f746ed-ef61-4193-ba87-e3aeb285390c
DTSTAMP:20260424T125913Z
DTSTART;VALUE=DATE:20260824
DTEND;VALUE=DATE:20260825
SUMMARY:Exhibition / Wendy Sharpe / Into the Dark
DESCRIPTION:Into the Dark is a bold\, major solo exhibition at the pinnacle of Wendy Sharpe's practice\, featuring new commissions\, a live-painted mural and immersive labyrinthine installations.\n\nInto the Dark is a new\, exciting culmination point of Sharpe's long  career and a timely presentation that responds to war\, the climate crisis\, and the decline of truth. A response to the darkness plaguing our world today\, the exhibition confronts our collective fears and asks whether naming our dread can transform our paralysis into awareness and resistance.\n\nSupported by a robust public program\, including curated talks\, workshops\, and live performances\, new commissions are made possible by The Lock-Up's Patrons Program.
LOCATION:\, 90 Hunter Street\, Newcastle\, NSW 2300\, NSW\, 2300
RRULE:FREQ=DAILY;INTERVAL=1;UNTIL=20260826T000000Z
END:VEVENT
END:VCALENDAR
