BEGIN:VCALENDAR
VERSION:2.0
PRODID:-//My Community Diary//iCal Event//EN
CALSCALE:GREGORIAN
METHOD:PUBLISH
BEGIN:VEVENT
UID:d9e90fa7-4a08-49e4-8b30-b69b99c7d68e
DTSTAMP:20260421T223019Z
DTSTART;VALUE=DATE:20260705
DTEND;VALUE=DATE:20260706
SUMMARY:Exhibition / Collect: Focus
DESCRIPTION:Curated by Early Career Curator Elloise Ansell\, the exhibition positions emerging bodies of work within a professional collecting context\, reframing experimentation as both rigorous and collectable.\n\nPresented as an intimate\, concentrated exhibition\, Collect: Focus offers artists the opportunity to present a cohesive body of work while engaging with exhibition-making in The Lock-Up's unique historical setting. \n\nBy connecting early career artists with new audiences and collectors\, Collect: Focus supports artistic and career development while strengthening the creative ecology of the Hunter Region.
LOCATION:\, 90 Hunter Street\, Newcastle\, NSW 2300\, NSW\, 2300
RRULE:FREQ=DAILY;INTERVAL=1;UNTIL=20260707T000000Z
END:VEVENT
END:VCALENDAR
