BEGIN:VCALENDAR
VERSION:2.0
PRODID:-//My Community Diary//iCal Event//EN
CALSCALE:GREGORIAN
METHOD:PUBLISH
BEGIN:VEVENT
UID:1403b8b4-c9f7-47ae-8c08-555f8d8a3a1d
DTSTAMP:20260422T001714Z
DTSTART;VALUE=DATE:20260601
DTEND;VALUE=DATE:20260602
SUMMARY:Exhibition / Collect: Focus
DESCRIPTION:Curated by Early Career Curator Elloise Ansell\, the exhibition positions emerging bodies of work within a professional collecting context\, reframing experimentation as both rigorous and collectable.\n\nPresented as an intimate\, concentrated exhibition\, Collect: Focus offers artists the opportunity to present a cohesive body of work while engaging with exhibition-making in The Lock-Up's unique historical setting. \n\nBy connecting early career artists with new audiences and collectors\, Collect: Focus supports artistic and career development while strengthening the creative ecology of the Hunter Region.
LOCATION:\, 90 Hunter Street\, Newcastle\, NSW 2300\, NSW\, 2300
RRULE:FREQ=DAILY;INTERVAL=1;UNTIL=20260603T000000Z
END:VEVENT
END:VCALENDAR
