BEGIN:VCALENDAR
VERSION:2.0
PRODID:-//My Community Diary//iCal Event//EN
CALSCALE:GREGORIAN
METHOD:PUBLISH
BEGIN:VEVENT
UID:5a957228-aacf-47cc-8f8f-29ffbd02aac5
DTSTAMP:20260422T001610Z
DTSTART;VALUE=DATE:20260526
DTEND;VALUE=DATE:20260527
SUMMARY:Exhibition / Collect
DESCRIPTION:The Lock-Up's flagship fundraising exhibition\, showcasing the best of the Hunter and beyond. This free event requires bookings. \n\nCollect is The Lock-Up's annual fundraising exhibition\, showcasing over a hundred emerging\, mid-career and established artists from Newcastle and the Hunter\, as well as The Lock-Up's broader artistic program.\n\nCurated by Early Career Curator Ella Grace Paterson\, Collect celebrates and platforms the diverse and vibrant creative community and is proud to showcase early career through to established artists alongside the diverse and highly regarded artistic program .\n\nCollect is about connecting the community and expanding the creative ecosystem\, connecting artists with collectors big and small. This year\, as always\, an inspiring line-up of many disciplines is expected\, with both established and emerging artists encouraged to apply.\n\nEach exhibiting artist contributes a work to be exhibited and sold\, raising funds for the not-for-profit\, independent art space. Works are available for purchase in the gallery and via The Lock-Up's online shop from opening night.
LOCATION:\, 90 Hunter Street\, Newcastle\, NSW 2300\, NSW\, 2300
RRULE:FREQ=DAILY;INTERVAL=1;UNTIL=20260528T000000Z
END:VEVENT
END:VCALENDAR
