BEGIN:VCALENDAR
VERSION:2.0
PRODID:-//My Community Diary//iCal Event//EN
CALSCALE:GREGORIAN
METHOD:PUBLISH
BEGIN:VEVENT
UID:0dcb1acb-f429-4bc1-afce-5a566ecf572f
DTSTAMP:20260421T224101Z
DTSTART;VALUE=DATE:20260428
DTEND;VALUE=DATE:20260429
SUMMARY:Exhibition - History of Rusten House
DESCRIPTION:Revisit the inaugural exhibition from April 2021 with selected framed images and the entire exhibition in digital format. This exhibition celebrates the doctors\, nurses and the medical history of this beautiful building. Created to celebrate the restoration and reopening of the 1862 Heritage-listed Queanbeyan Hospital\, now repurposed as an Arts Centre and gallery. \n\nJoin us in celebrating 5 years of Rusten House Art Centre being opened for community and individual artist exhibitions this April 2026\n\nPlease Note: Rusten House Art Centre\,  opening hours are  Wed - Sat 10am -4pm
LOCATION:\, 87 Collett Street\, Queanbeyan\, NSW 2620\, NSW\, 2620
RRULE:FREQ=DAILY;INTERVAL=1;UNTIL=20260430T000000Z
END:VEVENT
END:VCALENDAR
