BEGIN:VCALENDAR
VERSION:2.0
PRODID:-//My Community Diary//iCal Event//EN
CALSCALE:GREGORIAN
METHOD:PUBLISH
BEGIN:VEVENT
UID:a175b70e-2f6b-488a-9291-5789cabcd0ae
DTSTAMP:20260422T021830Z
DTSTART;VALUE=DATE:20260822
DTEND;VALUE=DATE:20260823
SUMMARY:Everly Brothers and Friends and Roy Orbison
DESCRIPTION:Australia's number one vocal duo\, the much loved Robertson Brothers\, join forces with the internationally acclaimed Dean Bourne\, the world's greatest Roy Orbison tribute artist\, and the Variety Show team for an unforgettable 2-hour audio-visual spectacular.\n\nThis unique concert also showcases the hits by The Beatles\, The Hollies and Simon&Garfunkel that were inspired and influenced by the Everly Brothers iconic songs and harmonies.\n\nFor the first time ever\, you'll experience the soaring harmonies of Phil and Don Everly and the haunting voice of Roy Orbison\, brought to life with the powerful accompaniment of the Variety Show Digital Band and Orchestra through some of the greatest songs ever written.
LOCATION:\, 1 Grant Street\, Ballina\, NSW 2478\, NSW\, 2478
END:VEVENT
END:VCALENDAR
