BEGIN:VCALENDAR
VERSION:2.0
PRODID:-//My Community Diary//iCal Event//EN
CALSCALE:GREGORIAN
METHOD:PUBLISH
BEGIN:VEVENT
UID:7cde42b3-7d25-42e0-ab8b-6aa9f50aab52
DTSTAMP:20260422T050006Z
DTSTART;VALUE=DATE:20260503
DTEND;VALUE=DATE:20260504
SUMMARY:Everly Bros & Roy Orbison Show- Parramatta
DESCRIPTION:Australia's #1 vocal duo\, the much-loved Robertson Brothers\, join forces with the internationally acclaimed Dean Bourne — the world's greatest Roy Orbison tribute artist — and the Variety Show team for an unforgettable 2-hour audio-visual spectacular.\n\nThis unique concert also showcases the hits by The Beatles\, The Hollies and Simon & Garfunkel that were inspired and influenced by the Everly Brothers iconic songs and harmonies. \n\nFor the first time ever\, you'll experience the soaring harmonies of Phil and Don Everly and the haunting voice of Roy Orbison\, brought to life with the powerful accompaniment of the Variety Show Digital Band and Orchestra through some of the greatest songs ever written.\n\nEntry Cost\nAdult $79.95  - Adult price\nConcession $74.95  - Concession price
LOCATION:\, Church Street\, Parramatta\, NSW 2150\, NSW\, 2150
END:VEVENT
END:VCALENDAR
