BEGIN:VCALENDAR
VERSION:2.0
PRODID:-//My Community Diary//iCal Event//EN
CALSCALE:GREGORIAN
METHOD:PUBLISH
BEGIN:VEVENT
UID:79932f5d-8f76-434c-ac47-1a26a3ed8705
DTSTAMP:20260422T021753Z
DTSTART;VALUE=DATE:20261031
DTEND;VALUE=DATE:20261101
SUMMARY:Evans Head Rotary Monthly Markets
DESCRIPTION:Come along and find a treasure or two at the Evans Head Rotary Monthly Markets. Visitors will find various stalls to peruse at the markets\, including coffee\, crafts\, bags\, clothing\, plants\, and lots more.\n\nDon't forget to keep an eye out for Rotary's volunteer-run sausage sizzle barbeque helping to raise funds.
LOCATION:\, Park Street\, Evans Head\, NSW 2473\, NSW\, 2473
RRULE:FREQ=DAILY;INTERVAL=1;UNTIL=20261102T000000Z
END:VEVENT
END:VCALENDAR
