BEGIN:VCALENDAR
VERSION:2.0
PRODID:-//My Community Diary//iCal Event//EN
CALSCALE:GREGORIAN
METHOD:PUBLISH
BEGIN:VEVENT
UID:eb714c4e-21a2-40a0-a818-6a43d8a3b216
DTSTAMP:20260422T071347Z
DTSTART;VALUE=DATE:20260926
DTEND;VALUE=DATE:20260927
SUMMARY:Evans Head Rotary Monthly Markets
DESCRIPTION:Come along and find a treasure or two at the Evans Head Rotary Monthly Markets. Visitors will find various stalls to peruse at the markets\, including coffee\, crafts\, bags\, clothing\, plants\, and lots more.\n\nDon't forget to keep an eye out for Rotary's volunteer-run sausage sizzle barbeque helping to raise funds.
LOCATION:\, Park Street\, Evans Head\, NSW 2473\, NSW\, 2473
RRULE:FREQ=DAILY;INTERVAL=1;UNTIL=20260928T000000Z
END:VEVENT
END:VCALENDAR
