BEGIN:VCALENDAR
VERSION:2.0
PRODID:-//My Community Diary//iCal Event//EN
CALSCALE:GREGORIAN
METHOD:PUBLISH
BEGIN:VEVENT
UID:035afedb-2ca2-4a59-9206-0c21d2d467f8
DTSTAMP:20260421T224244Z
DTSTART;VALUE=DATE:20260530
DTEND;VALUE=DATE:20260531
SUMMARY:Evans Head Rotary Monthly Markets
DESCRIPTION:Come along and find a treasure or two at the Evans Head Rotary Monthly Markets. Visitors will find various stalls to peruse at the markets\, including coffee\, crafts\, bags\, clothing\, plants\, and lots more.\n\nDon't forget to keep an eye out for Rotary's volunteer-run sausage sizzle barbeque helping to raise funds.
LOCATION:\, Park Street\, Evans Head\, NSW 2473\, NSW\, 2473
RRULE:FREQ=DAILY;INTERVAL=1;UNTIL=20260601T000000Z
END:VEVENT
END:VCALENDAR
