BEGIN:VCALENDAR
VERSION:2.0
PRODID:-//My Community Diary//iCal Event//EN
CALSCALE:GREGORIAN
METHOD:PUBLISH
BEGIN:VEVENT
UID:3e5d04fb-52cf-4310-b2d1-2ae8d0b32218
DTSTAMP:20260422T021754Z
DTSTART;VALUE=DATE:20261016
DTEND;VALUE=DATE:20261017
SUMMARY:Evans Head Farmers Markets
DESCRIPTION:Evans Head Farmers Market aims to support local farmers\, bakers and makers and provide access to fresh\, locally sourced produce. Come along and enjoy a variety of hot food\, fruit and vegetables\, bee products\, dairy and gluten-free options\, cakes\, pastries and bread.
LOCATION:\, Captain Cook Drive\, Evans Head\, NSW 2473\, NSW\, 2473
RRULE:FREQ=DAILY;INTERVAL=1;UNTIL=20261018T000000Z
END:VEVENT
END:VCALENDAR
