BEGIN:VCALENDAR
VERSION:2.0
PRODID:-//My Community Diary//iCal Event//EN
CALSCALE:GREGORIAN
METHOD:PUBLISH
BEGIN:VEVENT
UID:e6592423-3290-4923-9d54-cc8c5e483f9c
DTSTAMP:20260422T003026Z
DTSTART;VALUE=DATE:20260515
DTEND;VALUE=DATE:20260516
SUMMARY:Evans Head Farmers Markets
DESCRIPTION:Evans Head Farmers Market aims to support local farmers\, bakers and makers and provide access to fresh\, locally sourced produce. Come along and enjoy a variety of hot food\, fruit and vegetables\, bee products\, dairy and gluten-free options\, cakes\, pastries and bread.
LOCATION:\, Captain Cook Drive\, Evans Head\, NSW 2473\, NSW\, 2473
RRULE:FREQ=DAILY;INTERVAL=1;UNTIL=20260517T000000Z
END:VEVENT
END:VCALENDAR
