BEGIN:VCALENDAR
VERSION:2.0
PRODID:-//My Community Diary//iCal Event//EN
CALSCALE:GREGORIAN
METHOD:PUBLISH
BEGIN:VEVENT
UID:8c8b3700-7bcb-415b-a14a-05467ecf94cd
DTSTAMP:20260422T071652Z
DTSTART;VALUE=DATE:20260827
DTEND;VALUE=DATE:20260828
SUMMARY:Ettalong Diggers Lunch Cruise
DESCRIPTION:It's Back! The Ettalong Lunch Cruise Has Relaunched! \n\nYour favourite coastal day trip is ready to set sail again! Join them for a scenic 30-minute ferry ride from Palm Beach to beautiful Ettalong Beach\, followed by a relaxing lunch at Ettalong Diggers with unbeatable views of Broken Bay and Lion Island.\n\nEntry Cost\nAll tickets $33  - $33 per person includes a one course meal\n\n$40 per person includes main meal plus coffee & cake
LOCATION:\, 51-52 The Esplanade\, Ettalong Beach\, NSW 2257\, NSW\, 2257
RRULE:FREQ=DAILY;INTERVAL=1;UNTIL=20260829T000000Z
END:VEVENT
END:VCALENDAR
