BEGIN:VCALENDAR
VERSION:2.0
PRODID:-//My Community Diary//iCal Event//EN
CALSCALE:GREGORIAN
METHOD:PUBLISH
BEGIN:VEVENT
UID:cfff1abf-d7ce-4134-b56b-d26209854728
DTSTAMP:20260424T160024Z
DTSTART:20210629T080000Z
DTEND:20210629T170000Z
SUMMARY:General Practitioner - Womens Health - Mitchell
DESCRIPTION:True Relationships & Reproductive Health at Mitchell Medical Centre. Please confirm precise times with the service provider.
LOCATION:\, Ann Street\, Mitchell\, QLD\, 4465\, QLD\, 4465
END:VEVENT
END:VCALENDAR
