BEGIN:VCALENDAR
VERSION:2.0
PRODID:-//My Community Diary//iCal Event//EN
CALSCALE:GREGORIAN
METHOD:PUBLISH
BEGIN:VEVENT
UID:26480bdc-e065-49c2-9b6e-34106ad5c0a2
DTSTAMP:20260422T051242Z
DTSTART;VALUE=DATE:20260529
DTEND;VALUE=DATE:20260530
SUMMARY:Epping Night Market
DESCRIPTION:This exciting new market will run on the last Friday of each month from 5pm–9pm\, bringing together food\, shopping\, and community in a fantastic local setting.\n\nLocated in a high-exposure area surrounded by high-density residential\, this market is expected to attract a strong community turnout.
LOCATION:\, Boronia Ave\, Epping\, NSW 2121\, NSW\, 2121
RRULE:FREQ=DAILY;INTERVAL=1;UNTIL=20260531T000000Z
END:VEVENT
END:VCALENDAR
