BEGIN:VCALENDAR
VERSION:2.0
PRODID:-//My Community Diary//iCal Event//EN
CALSCALE:GREGORIAN
METHOD:PUBLISH
BEGIN:VEVENT
UID:257d28fa-e3dc-4429-b817-23807045ee46
DTSTAMP:20260422T015808Z
DTSTART;VALUE=DATE:20260426
DTEND;VALUE=DATE:20260427
SUMMARY:Ensemble Trivium presents Trilogy
DESCRIPTION:Spend your Sunday afternoon immersed in refined chamber music at the Music Estuary\, Ballina.\n\nEnsemble Trivium presents Trilogy-a performance defined by elegance\, effervescence and passion-featuring Monika Koerner on flute\, Anne Horton on violin and Yoko Okayasu on viola. Together\, this accomplished trio delivers a program rich in colour\, texture and expressive interplay.\n\nBlending the lightness of the flute with the warmth of strings\, Trilogy explores contrast and cohesion in equal measure. Expect moments of lyrical beauty\, sparkling energy and emotional depth as three distinct voices come together in seamless conversation.\n\nPerfect for chamber music enthusiasts and curious listeners alike\, this concert offers a polished yet approachable cultural experience-artistry without the airs\, excellence without the excess.\n\nA smart\, uplifting way to elevate your Sunday afternoon.
LOCATION:\, 38 Norton Street\, Ballina\, NSW 2478\, NSW\, 2478
END:VEVENT
END:VCALENDAR
