BEGIN:VCALENDAR
VERSION:2.0
PRODID:-//My Community Diary//iCal Event//EN
CALSCALE:GREGORIAN
METHOD:PUBLISH
BEGIN:VEVENT
UID:c473826a-d1e4-4087-a606-b5b18d4f9133
DTSTAMP:20260422T002942Z
DTSTART;VALUE=DATE:20261213
DTEND;VALUE=DATE:20261214
SUMMARY:Emmaville Courthouse Markets
DESCRIPTION:Stall holder markets with a wide range of wares including BBQ food\, coffee and cake.\nMarkets are held the second Sunday every month from 9am to 1pm.
LOCATION:\, 45 Glen Innes Road\, Emmaville\, NSW 2371\, NSW\, 2371
RRULE:FREQ=DAILY;INTERVAL=1;UNTIL=20261215T000000Z
END:VEVENT
END:VCALENDAR
