BEGIN:VCALENDAR
VERSION:2.0
PRODID:-//My Community Diary//iCal Event//EN
CALSCALE:GREGORIAN
METHOD:PUBLISH
BEGIN:VEVENT
UID:a5e4cce5-9ea2-40ed-a173-d7eadd731283
DTSTAMP:20260422T035751Z
DTSTART;VALUE=DATE:20260913
DTEND;VALUE=DATE:20260914
SUMMARY:Emmaville Courthouse Markets
DESCRIPTION:Stall holder markets with a wide range of wares including BBQ food\, coffee and cake.\nMarkets are held the second Sunday every month from 9am to 1pm.
LOCATION:\, 45 Glen Innes Road\, Emmaville\, NSW 2371\, NSW\, 2371
RRULE:FREQ=DAILY;INTERVAL=1;UNTIL=20260915T000000Z
END:VEVENT
END:VCALENDAR
