BEGIN:VCALENDAR
VERSION:2.0
PRODID:-//My Community Diary//iCal Event//EN
CALSCALE:GREGORIAN
METHOD:PUBLISH
BEGIN:VEVENT
UID:e764c7bf-6221-44f4-a75e-e57261fddc54
DTSTAMP:20260421T211531Z
DTSTART;VALUE=DATE:20260809
DTEND;VALUE=DATE:20260810
SUMMARY:Emmaville Courthouse Markets
DESCRIPTION:Stall holder markets with a wide range of wares including BBQ food\, coffee and cake.\nMarkets are held the second Sunday every month from 9am to 1pm.
LOCATION:\, 45 Glen Innes Road\, Emmaville\, NSW 2371\, NSW\, 2371
RRULE:FREQ=DAILY;INTERVAL=1;UNTIL=20260811T000000Z
END:VEVENT
END:VCALENDAR
