BEGIN:VCALENDAR
VERSION:2.0
PRODID:-//My Community Diary//iCal Event//EN
CALSCALE:GREGORIAN
METHOD:PUBLISH
BEGIN:VEVENT
UID:c1ede62e-b08e-421d-a22d-5cc4febd04b1
DTSTAMP:20260421T224403Z
DTSTART;VALUE=DATE:20261017
DTEND;VALUE=DATE:20261018
SUMMARY:Elders Love Lismore Show
DESCRIPTION:The North Coast National Lismore Show annual show is coming back\, mark your calendars for the highlight of the year\, as the Lismore Showgrounds come alive with three incredible days of fun and festivities.\n\nThe event program will be uploaded in September. Stay up to date with updates on the website and social media pages.
LOCATION:\, 116 Alexandra Parade\, North Lismore\, NSW 2480\, NSW\, 2480
RRULE:FREQ=DAILY;INTERVAL=1;UNTIL=20261019T000000Z
END:VEVENT
END:VCALENDAR
