BEGIN:VCALENDAR
VERSION:2.0
PRODID:-//My Community Diary//iCal Event//EN
CALSCALE:GREGORIAN
METHOD:PUBLISH
BEGIN:VEVENT
UID:2c034232-5fc4-4de8-bbb7-1a1b74a08b45
DTSTAMP:20260422T033753Z
DTSTART;VALUE=DATE:20261018
DTEND;VALUE=DATE:20261019
SUMMARY:Eden Whale Festival
DESCRIPTION:The Eden Whale Festival is an annual event\, highlighting the southern migration of the humpback and other whales. If you want to get up close and personal with these magnificent animals\, there is no better place to be in Australia than Eden on the NSW South Coast.\n\nThe whales can be seen in large numbers in the town's stunning Twofold Bay\, whether you are in a boat or\, indeed\, just from the shore.\n\nFor one weekend each year\, the rich maritime and whaling history of this port on Australia's Coastal Wilderness becomes the centrepiece for a weekend that somehow seamlessly links all things whale. \n\nThere are food events\, art exhibitions\, vibrant markets showcasing and selling the work of local artisans\, great local food and wine\, educational marine displays and presentations\, quality children's entertainment\, live music\, and - of course - the best whale-watching experience in Australia.
LOCATION:\, Barclay Street\, Eden\, NSW 2551\, NSW\, 2551
RRULE:FREQ=DAILY;INTERVAL=1;UNTIL=20261020T000000Z
END:VEVENT
END:VCALENDAR
