BEGIN:VCALENDAR
VERSION:2.0
PRODID:-//My Community Diary//iCal Event//EN
CALSCALE:GREGORIAN
METHOD:PUBLISH
BEGIN:VEVENT
UID:df6d46b6-e9f3-4f3e-804e-3df9c6fa1f7a
DTSTAMP:20260422T054505Z
DTSTART;VALUE=DATE:20260613
DTEND;VALUE=DATE:20260614
SUMMARY:Echoes of Piazzolla: The Experience
DESCRIPTION:Canberra Tango Quintet presents 'Echoes of Piazzolla: The Experience' - an immersive audio-visual experience of the legendary musician's music and life.\n\n'Echoes of Piazzolla: The Experience' combines an exquisite program of Astor Piazzolla's repertoire with archival imagery\, tracing his journey across New York and Buenos Aires to becoming one of the most renowned musicians and composers in history. \n\nExperience Piazzolla's music in his trademark ensemble that revolutionised tango and classical music – the quintet. A perfect balance of instrumentation accompanied by authentic artistic interpretation\, witness Canberra Tango Quintet perform on the very instruments for which Piazzolla's music was written: bandoneón\, violin\, electric guitar\, piano\, and double bass. \n\nCanberra Tango Quintet is a five-piece Australian-Argentinian-Uruguayan tango ensemble based in Canberra\, Australia.\n\nEntry Cost\nAdult $80 \nConcession $50 
LOCATION:\, Bennelong Point\, The Rocks\, NSW 2000\, NSW\, 2000
END:VEVENT
END:VCALENDAR
