BEGIN:VCALENDAR
VERSION:2.0
PRODID:-//My Community Diary//iCal Event//EN
CALSCALE:GREGORIAN
METHOD:PUBLISH
BEGIN:VEVENT
UID:e2f7ea09-def2-4384-a254-613bb36b3b74
DTSTAMP:20260422T002935Z
DTSTART;VALUE=DATE:20260613
DTEND;VALUE=DATE:20260614
SUMMARY:Eat the Invaders
DESCRIPTION:Australia's biodiversity is threatened by pests like rabbit\, deer and boar.  Head Chef Rory Finn turns invasives into cuisine\, sparking discussion on ecological impact through food choices.  With matching wines\, the evening will be hosted by winemaker and sustainability advocate Rajarshi Ray.\n\nEntry Cost\nAll tickets $99 
LOCATION:\, B640 Princes Highway\, Berry\, NSW 2535\, NSW\, 2535
END:VEVENT
END:VCALENDAR
