BEGIN:VCALENDAR
VERSION:2.0
PRODID:-//My Community Diary//iCal Event//EN
CALSCALE:GREGORIAN
METHOD:PUBLISH
BEGIN:VEVENT
UID:5661a4d4-c63c-43a8-83fb-adcd17601504
DTSTAMP:20260421T225724Z
DTSTART;VALUE=DATE:20260820
DTEND;VALUE=DATE:20260821
SUMMARY:Earth Market Maitland
DESCRIPTION:On the first and third Thursday of each month\, Maitland welcomes Maitland Earth Market to The Levee.\n\nBring your bags\, stock up\, and taste some of the farm produce\, including a great range of pickled vegetables\, fruits\, herbs\, eggs\, honey\, olives\, olive products\, oils and much more.\n\nStroll through the market and take the time to get to know the local farmers. \n\nSlow Food Earth Market Maitland is run by members and community volunteers who ensure access to good\, clean and fair food for all is a reality in Maitland.
LOCATION:\, 396 High Street\, Maitland\, NSW 2320\, NSW\, 2320
RRULE:FREQ=DAILY;INTERVAL=1;UNTIL=20260822T000000Z
END:VEVENT
END:VCALENDAR
