BEGIN:VCALENDAR
VERSION:2.0
PRODID:-//My Community Diary//iCal Event//EN
CALSCALE:GREGORIAN
METHOD:PUBLISH
BEGIN:VEVENT
UID:175d1c8b-4e0e-4cbe-84dd-80e692dcae85
DTSTAMP:20260422T003002Z
DTSTART;VALUE=DATE:20261011
DTEND;VALUE=DATE:20261012
SUMMARY:Dural Village Markets
DESCRIPTION:Dural Village Markets offers high quality market vibes set within the leafy\, landscaped grounds of the Dural Club on the second Sunday of the month.\n\nThe market's atmosphere centres around great food and community. Visitors can enjoy global cuisine\, street-food\, artisan bakery and amazing locally sourced produce that reflect the region's beauty and character. \n\nWander through a curated selection of art\, boutique fashion\, designer homewares\, plants\, and unique gifts—all chosen for creativity\, craftsmanship\, and a strong sense of style. \n\nThe markets are located in the club presidential gardens\, mature trees\, and open green spaces create a welcoming environment for the foodies and music lovers alike.\n\nLocated along Old Northern Road\, the market is an easy and enjoyable stop for tourists and weekend explorers looking to experience local flavour\, creativity\, and great vibes in a beautiful outdoor setting. Plenty of parking and dogs are welcome on leads.
LOCATION:\, 662 Old Northern Road\, Dural\, NSW 2158\, NSW\, 2158
RRULE:FREQ=DAILY;INTERVAL=1;UNTIL=20261013T000000Z
END:VEVENT
END:VCALENDAR
