BEGIN:VCALENDAR
VERSION:2.0
PRODID:-//My Community Diary//iCal Event//EN
CALSCALE:GREGORIAN
METHOD:PUBLISH
BEGIN:VEVENT
UID:e266aed4-2715-4a7f-972f-8ee6f773c23a
DTSTAMP:20260422T092627Z
DTSTART;VALUE=DATE:20260517
DTEND;VALUE=DATE:20260518
SUMMARY:Duntryleague Mansion Tour
DESCRIPTION:Join them for a guided tour of the Duntryleague Mansion. Learn about the history of the mansion\, and the role of the Daltons in Orange as you step back in time to 1876 and marvel at this grand building representing an impressive era in our history.
LOCATION:\, 195 Woodward Street\, Orange\, NSW 2800\, NSW\, 2800
END:VEVENT
END:VCALENDAR
