BEGIN:VCALENDAR
VERSION:2.0
PRODID:-//My Community Diary//iCal Event//EN
CALSCALE:GREGORIAN
METHOD:PUBLISH
BEGIN:VEVENT
UID:156f9dd6-405c-4cb8-8a42-f74b458da089
DTSTAMP:20260422T003029Z
DTSTART;VALUE=DATE:20260912
DTEND;VALUE=DATE:20260913
SUMMARY:Dungog Tea Party
DESCRIPTION:This is the most delightfully unique event of the year - The Dungog Tea Party!\n\nPrepare to be amazed by the spectacular Tea Cosy and Trivet Challenges that will leave you absolutely enchanted! \n\nYou won't believe the extraordinary inspirations that have transformed this charming event over the years! From gloriously Wild and Wacky creations that defy imagination\, to treasured antique pieces steeped in history\, adorable farm yard scenes that bring smiles to every face\, magnificent timber masterpieces\, elegant ceramic works of art\, and brilliant recycled material innovations that showcase pure genius - there's something magical around every corner!\n\nSet against Dungog's breathtaking cultural and natural heritage\, this extraordinary celebration brings together the region's vibrant creative arts and crafts community in the most picturesque rural paradise you can imagine.\n\nThis isn't just an event - it's a labor of love crafted by passionate locals whose enthusiasm is absolutely infectious. Come discover why the Dungog Tea Party has become the must-see celebration that captures hearts and sparks creativity in everyone who experiences its magic!
LOCATION:\, 6 Brown Street\, Dungog\, NSW 2420\, NSW\, 2420
RRULE:FREQ=DAILY;INTERVAL=1;UNTIL=20260914T000000Z
END:VEVENT
END:VCALENDAR
