BEGIN:VCALENDAR
VERSION:2.0
PRODID:-//My Community Diary//iCal Event//EN
CALSCALE:GREGORIAN
METHOD:PUBLISH
BEGIN:VEVENT
UID:56437e92-bb27-4b3b-93e7-84626b8b4c5e
DTSTAMP:20260422T002934Z
DTSTART;VALUE=DATE:20261114
DTEND;VALUE=DATE:20261115
SUMMARY:Dungog Show
DESCRIPTION:Your place for agriculture and entertainment. \n\nThe Dungog Agricultural and Horticultural Association is passionate about educating people of all ages about agriculture and they're revitalising their Show to reflect this.\n\nLearning exhibits tell the story of agriculture to both urban and rural people. They believe it is important that locals and visitors understand the significance of agriculture to the economy and appreciate the innovation\, efficiency\, and technology that supports it.\n\nThe Dungog Show promotes the involvement of youth in shows by holding competitions for young people and by encouraging the participation of young people in show societies and agricultural youth groups. \n\nYouth are encouraged to participate in the livestock judging competitions culminating at the State Finals for winners in Sydney at Easter.
LOCATION:\, Abelard Street\, Dungog\, NSW 2420\, NSW\, 2420
RRULE:FREQ=DAILY;INTERVAL=1;UNTIL=20261116T000000Z
END:VEVENT
END:VCALENDAR
