BEGIN:VCALENDAR
VERSION:2.0
PRODID:-//My Community Diary//iCal Event//EN
CALSCALE:GREGORIAN
METHOD:PUBLISH
BEGIN:VEVENT
UID:e81a390a-3646-4fc5-9a03-01a75b023d6d
DTSTAMP:20260421T225737Z
DTSTART;VALUE=DATE:20260725
DTEND;VALUE=DATE:20260726
SUMMARY:Dressage at Willinga
DESCRIPTION:Dressage at Willinga returns to the South Coast.\n\nSet within the spectacular coastal surrounds of Willinga Park\, Dressage at Willinga is back\, and it promises two days of elite equestrian sport in an unforgettable setting.\n\nWillinga Park is more than just a venue\; it's an experience. Renowned for its award-winning architecture\, 10 acres of sweeping botanic gardens\, over 30 large-scale sculptures and world-class equestrian facilities\, it offers an experience that extends well beyond the competition arena.\n\nAcross two full days\, riders from around the country will compete from Preliminary through to Grand Prix Freestyle\, showcasing the strength\, harmony and precision that define dressage at its highest level. Whether you're a dedicated equestrian enthusiast or discovering the sport for the first time\, this is your opportunity to enjoy this truly unique environment.\n\nMake a day of it — or stay a little longer — and experience why Willinga Park is one of Australia's most remarkable South Coast destinations.\n\nThey look forward to welcoming you!
LOCATION:\, 134 Forster Drive\, Bawley Point\, NSW 2539\, NSW\, 2539
RRULE:FREQ=DAILY;INTERVAL=1;UNTIL=20260727T000000Z
END:VEVENT
END:VCALENDAR
