BEGIN:VCALENDAR
VERSION:2.0
PRODID:-//My Community Diary//iCal Event//EN
CALSCALE:GREGORIAN
METHOD:PUBLISH
BEGIN:VEVENT
UID:1a235dc0-307e-47b7-b128-fac705179e49
DTSTAMP:20260422T002831Z
DTSTART;VALUE=DATE:20261107
DTEND;VALUE=DATE:20261108
SUMMARY:Drag Bingo and Trivia Bottomless Brunch
DESCRIPTION:The Queens are taking over the bridge and heading to Manly! Join every first Saturday of the month at InSitu for an unforgettable Drag Bingo/Trivia Bottomless Brunch – Manly's hottest new event.\n\nIndulge in bottomless Fellr seltzer\, house wine\, and beer jugs while feasting on delectable shared antipasto boards\, pizza\, sides\, and a delightfully light dessert.\n\nThis event promises a thrilling experience with Drag Bingo\, exciting prizes\, and a fabulous show that will keep you entertained throughout.\n\nThe show runs for a thrilling two hours\, accompanied by a generous 1.5-hour food and drinks package.\n\nDon't miss out on this fabulous event in the heart of Manly! Join a day filled with fun\, food\, and fierce entertainment.\n\nEntry Cost\nAdult $99  - Bottomless Apple Crumbles + Edie Sedgwicks\, Fellr seltzer\, house wine and beer jugs.\nShared antipasto boards\, pizza\, sides + light dessert.\nDrag bingo\, prizes + a show!
LOCATION:\, 18 Sydney Road\, Manly\, NSW 2095\, NSW\, 2095
RRULE:FREQ=DAILY;INTERVAL=1;UNTIL=20261109T000000Z
END:VEVENT
END:VCALENDAR
