BEGIN:VCALENDAR
VERSION:2.0
PRODID:-//My Community Diary//iCal Event//EN
CALSCALE:GREGORIAN
METHOD:PUBLISH
BEGIN:VEVENT
UID:d8f4563d-3a9f-4546-8f36-e02d463f6db5
DTSTAMP:20260424T083938Z
DTSTART;VALUE=DATE:20260424
DTEND;VALUE=DATE:20260425
SUMMARY:Downfall - Movie Screening
DESCRIPTION:A sobering look at the final days of Adolf Hitler and the collapse of Nazi Germany from within the Führerbunker. Anchored by a stunning central performance\, this harrowing war drama blends historical detail with personal tragedy.\nPowerful\, intense and ultimately heartbreaking\, Downfall remains one of the most compelling portrayals of history's endgame.\nPlease note: This movie is screened in German\, with English Subtitles.\nJoin us early for a meal before experiencing a powerful evening of cinema at the Nimbin Bush Theatre.\n\nEntry Cost\nAll tickets $12  - $12 Concession \n$15 Standard
LOCATION:\, 2 Blue Knob Road\, Nimbin\, NSW 2480\, NSW\, 2480
END:VEVENT
END:VCALENDAR
