BEGIN:VCALENDAR
VERSION:2.0
PRODID:-//My Community Diary//iCal Event//EN
CALSCALE:GREGORIAN
METHOD:PUBLISH
BEGIN:VEVENT
UID:bf3d145b-d9db-4025-8fca-f70406e70f01
DTSTAMP:20260422T015733Z
DTSTART;VALUE=DATE:20260820
DTEND;VALUE=DATE:20260821
SUMMARY:Don Giovanni - Opera Australia
DESCRIPTION:Opera Australia brings Mozart's Don Giovanni to Newcastle\, NSW\, for one unforgettable night at Civic Theatre Newcastle.\n\nA dark and thrilling masterpiece\, Don Giovanni follows opera's most notorious anti-hero on the final day of his life\, filled with seduction\, danger and dramatic reckoning. From the opening ominous chord\, Mozart reveals a fate that cannot be escaped.\n\nPart of Opera Australia's acclaimed National Tour\, this production showcases world-class opera in regional centres across the country\, with Newcastle proudly hosting this iconic work. Featuring the Regional Children's Chorus – The Hunter Trebles\, this performance offers the perfect reason to plan a cultural escape to Newcastle.\n\nEntry Cost\nAll tickets $64 
LOCATION:\, 375 Hunter Street\, Newcastle\, NSW 2300\, NSW\, 2300
END:VEVENT
END:VCALENDAR
