BEGIN:VCALENDAR
VERSION:2.0
PRODID:-//My Community Diary//iCal Event//EN
CALSCALE:GREGORIAN
METHOD:PUBLISH
BEGIN:VEVENT
UID:94203131-d662-47d1-8297-9ee8e091486c
DTSTAMP:20260422T072750Z
DTSTART;VALUE=DATE:20260818
DTEND;VALUE=DATE:20260819
SUMMARY:Don Giovanni - Opera Australia
DESCRIPTION:It's the last day of Don Giovanni's life\, but he doesn't know that.\n\nFor opera's own Casanova\, it's just another day of pleasure seeking. Seducing a bride on her wedding day. Breaking into a woman's bedroom in the dead of night. Killing her furious father.\n\nEven before the curtain rises\, Mozart reveals Don Giovanni's fate. An earth-shattering chord from the orchestra signals the gates of hell clanging open. The scoundrel's debauched days are at an end.\n\nOpera Australia's National Tour returns with a fabulous\, 1950s-inspired staging of Mozart's dark comedic masterpiece. The production is directed by Michael Gow (writer of the seminal Australian play Away) and features a cast of some of Opera Australia's finest singers\, performing alongside a live chamber orchestra.\n\nEntry Cost\nAll tickets $100  - Adult $110.00\nMember $100.00
LOCATION:\, Burns Way\, Wagga Wagga\, NSW 2650\, NSW\, 2650
END:VEVENT
END:VCALENDAR
