BEGIN:VCALENDAR
VERSION:2.0
PRODID:-//My Community Diary//iCal Event//EN
CALSCALE:GREGORIAN
METHOD:PUBLISH
BEGIN:VEVENT
UID:1413d5ee-e76f-4d4f-add3-0ca121fa8449
DTSTAMP:20260422T002753Z
DTSTART;VALUE=DATE:20260801
DTEND;VALUE=DATE:20260802
SUMMARY:Dolly: I Will Always Love You - Twin Towns
DESCRIPTION:Experience the ultimate tribute to Dolly Parton! Dolly: I Will Always Love You stars Brooke McMullen who masterfully captures the essence of Dolly\, delivering powerhouse vocals\, stunning costumes\, and a captivating stage presence. \n\nBacked by a talented band\, this high-energy show features Dolly's greatest hits\, 'Jolene'\, '9 to 5'\, and many more. A must-see show that will leave you smiling\, singing along\, and celebrating the one and only Dolly Parton!\n\nEntry Cost\nAll tickets $64 
LOCATION:\, 2 Wharf Street\, Tweed Heads\, NSW 2485\, NSW\, 2485
END:VEVENT
END:VCALENDAR
