BEGIN:VCALENDAR
VERSION:2.0
PRODID:-//My Community Diary//iCal Event//EN
CALSCALE:GREGORIAN
METHOD:PUBLISH
BEGIN:VEVENT
UID:0b7a1450-248f-4ccc-b0db-fa2ca42bff36
DTSTAMP:20260421T224249Z
DTSTART;VALUE=DATE:20261010
DTEND;VALUE=DATE:20261011
SUMMARY:Disney's FROZEN The Broadway Musical - Newcastle
DESCRIPTION:The Very Popular Theatre Company's Production of Disney's FROZEN The Broadway Musical.\n\nGet ready\, Newcastle\, the phenomenon that melted hearts around the world is coming to the Civic Theatre in October 2026! Disney's Frozen the Broadway Musical brings the beloved animated classic to life on stage in a dazzling theatrical experience that will captivate audiences of all ages.\n\nFeaturing all the iconic songs you love – including Let It Go\, Do You Want to Build a Snowman? and For the First Time in Forever – plus sensational new numbers written especially for the stage\, Frozen the Broadway Musical is a breathtaking celebration of love\, courage\, and the power of family. With jaw-dropping sets\, glittering costumes\, and mind-blowing special effects that will transport you straight to Arendelle\, this is an unforgettable event you won't want to miss.\n\nDon't wait – this global smash-hit is set to be the hottest (and coolest!) ticket in town. Join Elsa\, Anna\, Olaf\, Kristoff\, and Sven for a magical adventure that will warm your heart and ignite your imagination.\n\nThe Very Popular Theatre Company's Production of Disney's Frozen The Broadway Musical is licensed exclusively by Music Theatre International (Australasia).
LOCATION:\, 375 Hunter St\, Newcastle\, NSW 2300\, NSW\, 2300
RRULE:FREQ=DAILY;INTERVAL=1;UNTIL=20261012T000000Z
END:VEVENT
END:VCALENDAR
